BEGIN:VCALENDAR
VERSION:2.0
PRODID:-//ME Training - ECPv6.15.20//NONSGML v1.0//EN
CALSCALE:GREGORIAN
METHOD:PUBLISH
X-WR-CALNAME:ME Training
X-ORIGINAL-URL:https://metraining247.com
X-WR-CALDESC:Events for ME Training
REFRESH-INTERVAL;VALUE=DURATION:PT1H
X-Robots-Tag:noindex
X-PUBLISHED-TTL:PT1H
BEGIN:VTIMEZONE
TZID:America/Denver
BEGIN:DAYLIGHT
TZOFFSETFROM:-0700
TZOFFSETTO:-0600
TZNAME:MDT
DTSTART:20250309T090000
END:DAYLIGHT
BEGIN:STANDARD
TZOFFSETFROM:-0600
TZOFFSETTO:-0700
TZNAME:MST
DTSTART:20251102T080000
END:STANDARD
BEGIN:DAYLIGHT
TZOFFSETFROM:-0700
TZOFFSETTO:-0600
TZNAME:MDT
DTSTART:20260308T090000
END:DAYLIGHT
BEGIN:STANDARD
TZOFFSETFROM:-0600
TZOFFSETTO:-0700
TZNAME:MST
DTSTART:20261101T080000
END:STANDARD
BEGIN:DAYLIGHT
TZOFFSETFROM:-0700
TZOFFSETTO:-0600
TZNAME:MDT
DTSTART:20270314T090000
END:DAYLIGHT
BEGIN:STANDARD
TZOFFSETFROM:-0600
TZOFFSETTO:-0700
TZNAME:MST
DTSTART:20271107T080000
END:STANDARD
END:VTIMEZONE
BEGIN:VEVENT
DTSTART;TZID=America/Denver:20260518T080000
DTEND;TZID=America/Denver:20260518T160000
DTSTAMP:20260423T170305
CREATED:20260421T181200Z
LAST-MODIFIED:20260421T181200Z
UID:10000677-1779091200-1779120000@metraining247.com
SUMMARY:Lead Renovator Initial RRP (Renovation\, Repair\, and Painting)
DESCRIPTION:A “Renovation\, Repair\, and Painting” (RRP) course\, often referring to the EPA-mandated training\, focuses on lead-safe work practices for renovating pre-1978 properties. It covers health effects of lead\, regulatory compliance\, lead-safe work techniques like containment and cleaning\, and required documentation and recordkeeping. The course includes classroom training\, demonstrations\, and hands-on exercises to ensure renovators\, remodelers\, and painters can minimize lead dust and contamination \nThis course is an employer paid course. \nClass is subject to cancellation if we do not receive at least 4 registrations\, 24-48 hours prior to class date. 
URL:https://metraining247.com/event/lead-renovator-initial-rrp-renovation-repair-and-painting/
LOCATION:ME Training\, 3900 S. Federal Blvd.\, Englewood\, CO\, 80110\, United States
CATEGORIES:Lead Renovator Initial
ORGANIZER;CN="ME Training LLC":MAILTO:info@metraining247.com
END:VEVENT
END:VCALENDAR