BEGIN:VCALENDAR
VERSION:2.0
PRODID:-//ME Training - ECPv6.15.20//NONSGML v1.0//EN
CALSCALE:GREGORIAN
METHOD:PUBLISH
X-ORIGINAL-URL:https://metraining247.com
X-WR-CALDESC:Events for ME Training
REFRESH-INTERVAL;VALUE=DURATION:PT1H
X-Robots-Tag:noindex
X-PUBLISHED-TTL:PT1H
BEGIN:VTIMEZONE
TZID:America/Denver
BEGIN:DAYLIGHT
TZOFFSETFROM:-0700
TZOFFSETTO:-0600
TZNAME:MDT
DTSTART:20250309T090000
END:DAYLIGHT
BEGIN:STANDARD
TZOFFSETFROM:-0600
TZOFFSETTO:-0700
TZNAME:MST
DTSTART:20251102T080000
END:STANDARD
BEGIN:DAYLIGHT
TZOFFSETFROM:-0700
TZOFFSETTO:-0600
TZNAME:MDT
DTSTART:20260308T090000
END:DAYLIGHT
BEGIN:STANDARD
TZOFFSETFROM:-0600
TZOFFSETTO:-0700
TZNAME:MST
DTSTART:20261101T080000
END:STANDARD
BEGIN:DAYLIGHT
TZOFFSETFROM:-0700
TZOFFSETTO:-0600
TZNAME:MDT
DTSTART:20270314T090000
END:DAYLIGHT
BEGIN:STANDARD
TZOFFSETFROM:-0600
TZOFFSETTO:-0700
TZNAME:MST
DTSTART:20271107T080000
END:STANDARD
END:VTIMEZONE
BEGIN:VEVENT
DTSTART;TZID=America/Denver:20260119T080000
DTEND;TZID=America/Denver:20260120T160000
DTSTAMP:20260423T171654
CREATED:20251223T194033Z
LAST-MODIFIED:20260116T184106Z
UID:10000608-1768809600-1768924800@metraining247.com
SUMMARY:Asbestos Operations and Maintenance (O&M)\, (103)
DESCRIPTION:This course provides initial training for maintenance workers involved in general maintenance and asbestos material repair tasks. The course agenda includes: Federal and state regulations\, proper asbestos related work practices\, respirator use\, care and fit testing\, protective clothing\, hands-on training and proper documentation procedures. \nThis course is 16-hours and is approved by the state of Colorado and meets all the requirements of the EPA and AHERA (Asbestos Hazard Emergency Response Act). \nThis course is paid for by the employers. \nClass is subject to cancellation if we do not receive at least 4 registrations\, 24-48 hours prior to class date. 
URL:https://metraining247.com/event/asbestos-operations-and-maintenance-om-103-3/
LOCATION:ME Training\, 3900 S. Federal Blvd.\, Englewood\, CO\, 80110\, United States
CATEGORIES:Asbestos O&M
ATTACH;FMTTYPE=image/jpeg:https://metraining247.com/wp-content/uploads/2019/04/AsbestosOperationsMaintenance.jpg
ORGANIZER;CN="ME Training LLC":MAILTO:info@metraining247.com
END:VEVENT
BEGIN:VEVENT
DTSTART;TZID=America/Denver:20260119T080000
DTEND;TZID=America/Denver:20260123T160000
DTSTAMP:20260423T171654
CREATED:20251218T185816Z
LAST-MODIFIED:20260116T184040Z
UID:10000603-1768809600-1769184000@metraining247.com
SUMMARY:Asbestos Contractor / Supervisor\, Initial (101)
DESCRIPTION:Contractor/Supervisor initial training for persons who supervise asbestos work site activities and perform project monitoring. In addition to the core topics of the Asbestos Worker course\, this course features advanced topics for site supervision\, including effective supervision techniques\, specifications and contract documents\, legal issues\, insurance and bonding and supervision of abatement work site activities. \nThis course is 40 hours and is approved by the state of Colorado and meets all the requirements of the EPA and AHERA (Asbestos Hazard Emergency Response Act). \nThis course requires an annual 8 hour refresher course to maintain accreditation. \nClass is subject to cancellation if we do not receive at least 4 registrations\, 24-48 hours prior to class date. 
URL:https://metraining247.com/event/asbestos-contractor-supervisor-initial-101-2/
LOCATION:ME Training\, 3900 S. Federal Blvd.\, Englewood\, CO\, 80110\, United States
CATEGORIES:Asbestos Contractor / Supervisor
ATTACH;FMTTYPE=image/jpeg:https://metraining247.com/wp-content/uploads/2019/04/AsbestosContractor.jpg
ORGANIZER;CN="ME Training LLC":MAILTO:info@metraining247.com
END:VEVENT
END:VCALENDAR