BEGIN:VCALENDAR
VERSION:2.0
PRODID:-//ME Training - ECPv6.15.20//NONSGML v1.0//EN
CALSCALE:GREGORIAN
METHOD:PUBLISH
X-WR-CALNAME:ME Training
X-ORIGINAL-URL:https://metraining247.com
X-WR-CALDESC:Events for ME Training
REFRESH-INTERVAL;VALUE=DURATION:PT1H
X-Robots-Tag:noindex
X-PUBLISHED-TTL:PT1H
BEGIN:VTIMEZONE
TZID:America/Denver
BEGIN:DAYLIGHT
TZOFFSETFROM:-0700
TZOFFSETTO:-0600
TZNAME:MDT
DTSTART:20240310T090000
END:DAYLIGHT
BEGIN:STANDARD
TZOFFSETFROM:-0600
TZOFFSETTO:-0700
TZNAME:MST
DTSTART:20241103T080000
END:STANDARD
BEGIN:DAYLIGHT
TZOFFSETFROM:-0700
TZOFFSETTO:-0600
TZNAME:MDT
DTSTART:20250309T090000
END:DAYLIGHT
BEGIN:STANDARD
TZOFFSETFROM:-0600
TZOFFSETTO:-0700
TZNAME:MST
DTSTART:20251102T080000
END:STANDARD
BEGIN:DAYLIGHT
TZOFFSETFROM:-0700
TZOFFSETTO:-0600
TZNAME:MDT
DTSTART:20260308T090000
END:DAYLIGHT
BEGIN:STANDARD
TZOFFSETFROM:-0600
TZOFFSETTO:-0700
TZNAME:MST
DTSTART:20261101T080000
END:STANDARD
END:VTIMEZONE
BEGIN:VEVENT
DTSTART;TZID=America/Denver:20251103T080000
DTEND;TZID=America/Denver:20251104T160000
DTSTAMP:20260424T033750
CREATED:20250930T210838Z
LAST-MODIFIED:20250930T210838Z
UID:10000569-1762156800-1762272000@metraining247.com
SUMMARY:Asbestos Operations and Maintenance (O&M)\, (103)
DESCRIPTION:This course provides initial training for maintenance workers involved in general maintenance and asbestos material repair tasks. The course agenda includes: Federal and state regulations\, proper asbestos related work practices\, respirator use\, care and fit testing\, protective clothing\, hands-on training and proper documentation procedures. \nThis course is 16-hours and is approved by the state of Colorado and meets all the requirements of the EPA and AHERA (Asbestos Hazard Emergency Response Act). \nThis course is paid for by the employers. \nClass is subject to cancellation if we do not receive at least 4 registrations\, 24-48 hours prior to class date. 
URL:https://metraining247.com/event/asbestos-operations-and-maintenance-om-103-5/
LOCATION:ME Training\, 3900 S. Federal Blvd.\, Englewood\, CO\, 80110\, United States
CATEGORIES:Asbestos O&M
ATTACH;FMTTYPE=image/jpeg:https://metraining247.com/wp-content/uploads/2019/04/AsbestosOperationsMaintenance.jpg
ORGANIZER;CN="ME Training LLC":MAILTO:info@metraining247.com
END:VEVENT
BEGIN:VEVENT
DTSTART;TZID=America/Denver:20251031T080000
DTEND;TZID=America/Denver:20251031T160000
DTSTAMP:20260424T033750
CREATED:20250919T214017Z
LAST-MODIFIED:20250919T214017Z
UID:10000564-1761897600-1761926400@metraining247.com
SUMMARY:Asbestos Contractor / Supervisor\, Refresher (101R)
DESCRIPTION:Asbestos Contractor/Supervisor refresher for persons who supervise includes a review of topics covered in the contractor/supervisor initial training and will review new developments in government regulations\, state of the art work practices and asbestos abatement industry standards. \nThis course is 8 hours and is approved by the state of Colorado and meets all the requirements of the EPA and AHERA (Asbestos Hazard Emergency Response Act). \nThis is an employer paid course.
URL:https://metraining247.com/event/asbestos-contractor-supervisor-refresher-101r-5/
LOCATION:ME Training\, 3900 S. Federal Blvd.\, Englewood\, CO\, 80110\, United States
CATEGORIES:Asbestos Contractor / Supervisor,Refresher
ATTACH;FMTTYPE=image/jpeg:https://metraining247.com/wp-content/uploads/2019/04/AsbestosContractor.jpg
ORGANIZER;CN="ME Training LLC":MAILTO:info@metraining247.com
END:VEVENT
END:VCALENDAR