BEGIN:VCALENDAR
VERSION:2.0
PRODID:-//ME Training - ECPv6.15.20//NONSGML v1.0//EN
CALSCALE:GREGORIAN
METHOD:PUBLISH
X-WR-CALNAME:ME Training
X-ORIGINAL-URL:https://metraining247.com
X-WR-CALDESC:Events for ME Training
REFRESH-INTERVAL;VALUE=DURATION:PT1H
X-Robots-Tag:noindex
X-PUBLISHED-TTL:PT1H
BEGIN:VTIMEZONE
TZID:America/Denver
BEGIN:DAYLIGHT
TZOFFSETFROM:-0700
TZOFFSETTO:-0600
TZNAME:MDT
DTSTART:20240310T090000
END:DAYLIGHT
BEGIN:STANDARD
TZOFFSETFROM:-0600
TZOFFSETTO:-0700
TZNAME:MST
DTSTART:20241103T080000
END:STANDARD
BEGIN:DAYLIGHT
TZOFFSETFROM:-0700
TZOFFSETTO:-0600
TZNAME:MDT
DTSTART:20250309T090000
END:DAYLIGHT
BEGIN:STANDARD
TZOFFSETFROM:-0600
TZOFFSETTO:-0700
TZNAME:MST
DTSTART:20251102T080000
END:STANDARD
BEGIN:DAYLIGHT
TZOFFSETFROM:-0700
TZOFFSETTO:-0600
TZNAME:MDT
DTSTART:20260308T090000
END:DAYLIGHT
BEGIN:STANDARD
TZOFFSETFROM:-0600
TZOFFSETTO:-0700
TZNAME:MST
DTSTART:20261101T080000
END:STANDARD
BEGIN:DAYLIGHT
TZOFFSETFROM:-0700
TZOFFSETTO:-0600
TZNAME:MDT
DTSTART:20270314T090000
END:DAYLIGHT
BEGIN:STANDARD
TZOFFSETFROM:-0600
TZOFFSETTO:-0700
TZNAME:MST
DTSTART:20271107T080000
END:STANDARD
END:VTIMEZONE
BEGIN:VEVENT
DTSTART;TZID=America/Denver:20260130T080000
DTEND;TZID=America/Denver:20260130T160000
DTSTAMP:20260423T172253
CREATED:20260113T202823Z
LAST-MODIFIED:20260129T190118Z
UID:10000610-1769760000-1769788800@metraining247.com
SUMMARY:Asbestos Contractor / Supervisor\, Refresher (101R)
DESCRIPTION:Asbestos Contractor/Supervisor refresher for persons who supervise includes a review of topics covered in the contractor/supervisor initial training and will review new developments in government regulations\, state of the art work practices and asbestos abatement industry standards. \nThis course is 8 hours and is approved by the state of Colorado and meets all the requirements of the EPA and AHERA (Asbestos Hazard Emergency Response Act). \nThis is an employer paid course \nAll classes are subject to cancellation if we do not receive at least 4 registrations\, 24-48 hours prior to class date. 
URL:https://metraining247.com/event/asbestos-contractor-supervisor-refresher-101r-4/
LOCATION:ME Training\, 3900 S. Federal Blvd.\, Englewood\, CO\, 80110\, United States
CATEGORIES:Asbestos Contractor / Supervisor,Refresher
ATTACH;FMTTYPE=image/jpeg:https://metraining247.com/wp-content/uploads/2019/04/AsbestosContractor.jpg
ORGANIZER;CN="ME Training LLC":MAILTO:info@metraining247.com
END:VEVENT
BEGIN:VEVENT
DTSTART;TZID=America/Denver:20260115T123000
DTEND;TZID=America/Denver:20260115T163000
DTSTAMP:20260423T172253
CREATED:20251217T225945Z
LAST-MODIFIED:20260109T212518Z
UID:10000593-1768480200-1768494600@metraining247.com
SUMMARY:Air Monitoring Specialist Refresher (109R)
DESCRIPTION:Annual refresher for Air Monitoring Specialist class. \nThis is an employer paid course.
URL:https://metraining247.com/event/air-monitoring-specialist-refresher-109r-2/
LOCATION:ME Training\, 3900 S. Federal Blvd.\, Englewood\, CO\, 80110\, United States
CATEGORIES:Air Monitoring Specialist,Refresher
ATTACH;FMTTYPE=image/jpeg:https://metraining247.com/wp-content/uploads/2019/04/air-monitoring-pump.jpg
ORGANIZER;CN="ME Training LLC":MAILTO:info@metraining247.com
END:VEVENT
BEGIN:VEVENT
DTSTART;TZID=America/Denver:20260115T080000
DTEND;TZID=America/Denver:20260115T120000
DTSTAMP:20260423T172253
CREATED:20251223T192958Z
LAST-MODIFIED:20260109T212534Z
UID:10000606-1768464000-1768478400@metraining247.com
SUMMARY:Asbestos Building Inspector\, Refresher (104R)
DESCRIPTION:Annual refresher training for asbestos site inspectors including a review of topics originally covered in the Asbestos Building Inspector Initial course. The course covers new developments in government regulations\, state of the art inspection and sampling practices and asbestos abatement industry standards. \nThis course is 4 hours and is approved by the state of Colorado and meets all the requirements of the EPA and AHERA (Asbestos Hazard Emergency Response Act). \nThis is an employer paid course.
URL:https://metraining247.com/event/asbestos-building-inspector-refresher-104r-3/
LOCATION:ME Training\, 3900 S. Federal Blvd.\, Englewood\, CO\, 80110\, United States
CATEGORIES:Asbestos Building Inspector,Refresher
ATTACH;FMTTYPE=image/jpeg:https://metraining247.com/wp-content/uploads/2019/04/AsbestosBuildingInspector.jpg
ORGANIZER;CN="ME Training LLC":MAILTO:info@metraining247.com
END:VEVENT
BEGIN:VEVENT
DTSTART;TZID=America/Denver:20260110T080000
DTEND;TZID=America/Denver:20260110T160000
DTSTAMP:20260423T172253
CREATED:20251223T192117Z
LAST-MODIFIED:20251223T192117Z
UID:10000605-1768032000-1768060800@metraining247.com
SUMMARY:Spanish Worker Refresher (102R)
DESCRIPTION:Asbestos worker refresher for asbestos abatement workers includes a review of materials covered in the asbestos worker initial course and coverage of new developments in government regulations: state of the art work practices and asbestos abatement industry standards. \nThis course is 8 hours and is approved by the state of Colorado and meets all the requirements of the EPA and AHERA (Asbestos Hazard Emergency Response Act). (WRE) \nThis is an employer paid course. \nClass is subject to cancellation if we do not receive at least 4 registrations\, 24-48 hours prior to class date. 
URL:https://metraining247.com/event/spanish-worker-refresher-102r-3/
LOCATION:ME Training\, 3900 S. Federal Blvd.\, Englewood\, CO\, 80110\, United States
CATEGORIES:Refresher,Spanish Asbestos Worker
ATTACH;FMTTYPE=image/jpeg:https://metraining247.com/wp-content/uploads/2019/04/AsbestosContractor.jpg
ORGANIZER;CN="ME Training LLC":MAILTO:info@metraining247.com
END:VEVENT
BEGIN:VEVENT
DTSTART;TZID=America/Denver:20260109T080000
DTEND;TZID=America/Denver:20260109T160000
DTSTAMP:20260423T172253
CREATED:20251217T225833Z
LAST-MODIFIED:20251217T225833Z
UID:10000592-1767945600-1767974400@metraining247.com
SUMMARY:Asbestos Contractor / Supervisor\, Refresher (101R)
DESCRIPTION:Asbestos Contractor/Supervisor refresher for persons who supervise includes a review of topics covered in the contractor/supervisor initial training and will review new developments in government regulations\, state of the art work practices and asbestos abatement industry standards. \nThis course is 8 hours and is approved by the state of Colorado and meets all the requirements of the EPA and AHERA (Asbestos Hazard Emergency Response Act). \nThis is an employer paid course.
URL:https://metraining247.com/event/asbestos-contractor-supervisor-refresher-101r-2/
LOCATION:ME Training\, 3900 S. Federal Blvd.\, Englewood\, CO\, 80110\, United States
CATEGORIES:Asbestos Contractor / Supervisor,Refresher
ATTACH;FMTTYPE=image/jpeg:https://metraining247.com/wp-content/uploads/2019/04/AsbestosContractor.jpg
ORGANIZER;CN="ME Training LLC":MAILTO:info@metraining247.com
END:VEVENT
BEGIN:VEVENT
DTSTART;TZID=America/Denver:20251220T080000
DTEND;TZID=America/Denver:20251220T160000
DTSTAMP:20260423T172253
CREATED:20251006T215839Z
LAST-MODIFIED:20251218T182728Z
UID:10000582-1766217600-1766246400@metraining247.com
SUMMARY:Asbestos Contractor / Supervisor\, Refresher (Live-Remote)
DESCRIPTION:Asbestos Contractor/Supervisor refresher for persons who supervise includes a review of topics covered in the contractor/supervisor initial training and will review new developments in government regulations\, state of the art work practices and asbestos abatement industry standards. \nThis course is 8 hours and is approved by the state of Colorado and meets all the requirements of the EPA and AHERA (Asbestos Hazard Emergency Response Act). \nThis is an employer paid course. \nPlease provide the students name\, phone number\, and email address in the “notes” section at checkout. The class material\, Zoom link\, and CDPHE requirements for live-remote classes will be emailed within 24 hours of registration being received.  \nClass is subject to cancellation if we do not receive at least 4 registrations\, 24-48 hours prior to class date. 
URL:https://metraining247.com/event/asbestos-contractor-supervisor-refresher-live-remote-4/
LOCATION:ME Training\, 3900 S. Federal Blvd.\, Englewood\, CO\, 80110\, United States
CATEGORIES:Asbestos Contractor / Supervisor,Refresher
ATTACH;FMTTYPE=image/jpeg:https://metraining247.com/wp-content/uploads/2019/04/AsbestosContractor.jpg
ORGANIZER;CN="ME Training LLC":MAILTO:info@metraining247.com
END:VEVENT
BEGIN:VEVENT
DTSTART;TZID=America/Denver:20251211T080000
DTEND;TZID=America/Denver:20251211T120000
DTSTAMP:20260423T172253
CREATED:20251008T160728Z
LAST-MODIFIED:20251210T234904Z
UID:10000584-1765440000-1765454400@metraining247.com
SUMMARY:Asbestos Building Inspector\, Refresher (104R)
DESCRIPTION:Annual refresher training for asbestos site inspectors including a review of topics originally covered in the Asbestos Building Inspector Initial course. The course covers new developments in government regulations\, state of the art inspection and sampling practices and asbestos abatement industry standards. \nThis course is 4 hours and is approved by the state of Colorado and meets all the requirements of the EPA and AHERA (Asbestos Hazard Emergency Response Act). \nThis is an employer paid course.
URL:https://metraining247.com/event/asbestos-building-inspector-refresher-104r-4/
LOCATION:ME Training\, 3900 S. Federal Blvd.\, Englewood\, CO\, 80110\, United States
CATEGORIES:Asbestos Building Inspector,Refresher
ATTACH;FMTTYPE=image/jpeg:https://metraining247.com/wp-content/uploads/2019/04/AsbestosBuildingInspector.jpg
ORGANIZER;CN="ME Training LLC":MAILTO:info@metraining247.com
END:VEVENT
BEGIN:VEVENT
DTSTART;TZID=America/Denver:20251122T080000
DTEND;TZID=America/Denver:20251122T160000
DTSTAMP:20260423T172253
CREATED:20251006T215249Z
LAST-MODIFIED:20251121T174259Z
UID:10000580-1763798400-1763827200@metraining247.com
SUMMARY:Asbestos Contractor / Supervisor\, Refresher (Live-Remote)
DESCRIPTION:Asbestos Contractor/Supervisor refresher for persons who supervise includes a review of topics covered in the contractor/supervisor initial training and will review new developments in government regulations\, state of the art work practices and asbestos abatement industry standards. \nThis course is 8 hours and is approved by the state of Colorado and meets all the requirements of the EPA and AHERA (Asbestos Hazard Emergency Response Act). \nThis is an employer paid course. \nPlease provide the students name\, phone number\, and email address in the “notes” section at checkout. The class material\, Zoom link\, and CDPHE requirements for live-remote classes will be emailed within 24 hours of registration being received.  \nClass is subject to cancellation if we do not receive at least 4 registrations\, 24-48 hours prior to class date. 
URL:https://metraining247.com/event/asbestos-contractor-supervisor-refresher-live-remote-2/
LOCATION:ME Training\, 3900 S. Federal Blvd.\, Englewood\, CO\, 80110\, United States
CATEGORIES:Asbestos Contractor / Supervisor,Refresher
ATTACH;FMTTYPE=image/jpeg:https://metraining247.com/wp-content/uploads/2019/04/AsbestosContractor.jpg
ORGANIZER;CN="ME Training LLC":MAILTO:info@metraining247.com
END:VEVENT
BEGIN:VEVENT
DTSTART;TZID=America/Denver:20251113T123000
DTEND;TZID=America/Denver:20251113T163000
DTSTAMP:20260423T172253
CREATED:20250930T212901Z
LAST-MODIFIED:20251111T214416Z
UID:10000572-1763037000-1763051400@metraining247.com
SUMMARY:Air Monitoring Specialist Refresher (Live-Remote via ZOOM)
DESCRIPTION:Annual refresher for Air Monitoring Specialist class. \nThis is an employer paid course. \nPlease provide the students name\, phone number\, and email address in the “notes” section at checkout. The class material\, Zoom link\, and CDPHE requirements for live-remote classes will be emailed within 24 hours of registration being received.  \nAll classes are subject to cancellation if we do not receive at least 4 registrations\, 24-48 hours prior to class date. 
URL:https://metraining247.com/event/air-monitoring-specialist-refresher-live-remote-via-zoom-3/
LOCATION:ME Training\, 3900 S. Federal Blvd.\, Englewood\, CO\, 80110\, United States
CATEGORIES:Air Monitoring Specialist,Refresher
ATTACH;FMTTYPE=image/jpeg:https://metraining247.com/wp-content/uploads/2019/04/air-monitoring-pump.jpg
ORGANIZER;CN="ME Training LLC":MAILTO:info@metraining247.com
END:VEVENT
BEGIN:VEVENT
DTSTART;TZID=America/Denver:20251113T080000
DTEND;TZID=America/Denver:20251113T120000
DTSTAMP:20260423T172253
CREATED:20250930T212812Z
LAST-MODIFIED:20251113T175550Z
UID:10000571-1763020800-1763035200@metraining247.com
SUMMARY:Asbestos Building Inspector\, Refresher (Live-Remote)
DESCRIPTION:Annual refresher training for asbestos site inspectors including a review of topics originally covered in the Asbestos Building Inspector Initial course. The course covers new developments in government regulations\, state of the art inspection and sampling practices and asbestos abatement industry standards. \nThis course is 4 hours and is approved by the state of Colorado and meets all the requirements of the EPA and AHERA (Asbestos Hazard Emergency Response Act). \nThis is an employer paid course. \nPlease provide the students name\, phone number\, and email address in the “notes” section at checkout. The class material\, Zoom link\, and CDPHE requirements for live-remote classes will be emailed within 24 hours of registration being received.  \nClass is subject to cancellation if we do not receive at least 4 registrations\, 24-48 hours prior to class date. 
URL:https://metraining247.com/event/asbestos-building-inspector-refresher-live-remote-13/
LOCATION:ME Training\, 3900 S. Federal Blvd.\, Englewood\, CO\, 80110\, United States
CATEGORIES:Asbestos Building Inspector,Refresher
ATTACH;FMTTYPE=image/jpeg:https://metraining247.com/wp-content/uploads/2019/04/AsbestosBuildingInspector.jpg
ORGANIZER;CN="ME Training LLC":MAILTO:info@metraining247.com
END:VEVENT
BEGIN:VEVENT
DTSTART;TZID=America/Denver:20251031T080000
DTEND;TZID=America/Denver:20251031T160000
DTSTAMP:20260423T172253
CREATED:20250919T214017Z
LAST-MODIFIED:20250919T214017Z
UID:10000564-1761897600-1761926400@metraining247.com
SUMMARY:Asbestos Contractor / Supervisor\, Refresher (101R)
DESCRIPTION:Asbestos Contractor/Supervisor refresher for persons who supervise includes a review of topics covered in the contractor/supervisor initial training and will review new developments in government regulations\, state of the art work practices and asbestos abatement industry standards. \nThis course is 8 hours and is approved by the state of Colorado and meets all the requirements of the EPA and AHERA (Asbestos Hazard Emergency Response Act). \nThis is an employer paid course.
URL:https://metraining247.com/event/asbestos-contractor-supervisor-refresher-101r-5/
LOCATION:ME Training\, 3900 S. Federal Blvd.\, Englewood\, CO\, 80110\, United States
CATEGORIES:Asbestos Contractor / Supervisor,Refresher
ATTACH;FMTTYPE=image/jpeg:https://metraining247.com/wp-content/uploads/2019/04/AsbestosContractor.jpg
ORGANIZER;CN="ME Training LLC":MAILTO:info@metraining247.com
END:VEVENT
END:VCALENDAR