BEGIN:VCALENDAR
VERSION:2.0
PRODID:-//ME Training - ECPv6.15.20//NONSGML v1.0//EN
CALSCALE:GREGORIAN
METHOD:PUBLISH
X-ORIGINAL-URL:https://metraining247.com
X-WR-CALDESC:Events for ME Training
REFRESH-INTERVAL;VALUE=DURATION:PT1H
X-Robots-Tag:noindex
X-PUBLISHED-TTL:PT1H
BEGIN:VTIMEZONE
TZID:America/Denver
BEGIN:DAYLIGHT
TZOFFSETFROM:-0700
TZOFFSETTO:-0600
TZNAME:MDT
DTSTART:20250309T090000
END:DAYLIGHT
BEGIN:STANDARD
TZOFFSETFROM:-0600
TZOFFSETTO:-0700
TZNAME:MST
DTSTART:20251102T080000
END:STANDARD
BEGIN:DAYLIGHT
TZOFFSETFROM:-0700
TZOFFSETTO:-0600
TZNAME:MDT
DTSTART:20260308T090000
END:DAYLIGHT
BEGIN:STANDARD
TZOFFSETFROM:-0600
TZOFFSETTO:-0700
TZNAME:MST
DTSTART:20261101T080000
END:STANDARD
BEGIN:DAYLIGHT
TZOFFSETFROM:-0700
TZOFFSETTO:-0600
TZNAME:MDT
DTSTART:20270314T090000
END:DAYLIGHT
BEGIN:STANDARD
TZOFFSETFROM:-0600
TZOFFSETTO:-0700
TZNAME:MST
DTSTART:20271107T080000
END:STANDARD
END:VTIMEZONE
BEGIN:VEVENT
DTSTART;TZID=America/Denver:20260306T080000
DTEND;TZID=America/Denver:20260306T160000
DTSTAMP:20260423T160842
CREATED:20260217T225654Z
LAST-MODIFIED:20260305T181514Z
UID:10000631-1772784000-1772812800@metraining247.com
SUMMARY:Asbestos Contractor / Supervisor\, Refresher (101R)
DESCRIPTION:Asbestos Contractor/Supervisor refresher for persons who supervise includes a review of topics covered in the contractor/supervisor initial training and will review new developments in government regulations\, state of the art work practices and asbestos abatement industry standards. \nThis course is 8 hours and is approved by the state of Colorado and meets all the requirements of the EPA and AHERA (Asbestos Hazard Emergency Response Act). \nThis is an employer paid course \nAll classes are subject to cancellation if we do not receive at least 4 registrations\, 24-48 hours prior to class date. 
URL:https://metraining247.com/event/asbestos-contractor-supervisor-refresher-101r-8/
LOCATION:ME Training\, 3900 S. Federal Blvd.\, Englewood\, CO\, 80110\, United States
CATEGORIES:Asbestos Contractor / Supervisor,Refresher
ATTACH;FMTTYPE=image/jpeg:https://metraining247.com/wp-content/uploads/2019/04/AsbestosContractor.jpg
ORGANIZER;CN="ME Training LLC":MAILTO:info@metraining247.com
END:VEVENT
BEGIN:VEVENT
DTSTART;TZID=America/Denver:20260307T080000
DTEND;TZID=America/Denver:20260307T160000
DTSTAMP:20260423T160842
CREATED:20260217T225820Z
LAST-MODIFIED:20260305T181547Z
UID:10000641-1772870400-1772899200@metraining247.com
SUMMARY:English Worker Refresher (102R)
DESCRIPTION:Asbestos worker refresher for asbestos abatement workers includes a review of materials covered in the asbestos worker initial course and coverage of new developments in government regulations: state of the art work practices and asbestos abatement industry standards. \nThis course is 8 hours and is approved by the state of Colorado and meets all the requirements of the EPA and AHERA (Asbestos Hazard Emergency Response Act). (WRE) \nThis is an employer paid course. \nClass is subject to cancellation if we do not receive at least 4 registrations\, 24-48 hours prior to class date. 
URL:https://metraining247.com/event/english-worker-refresher-102r/
LOCATION:ME Training\, 3900 S. Federal Blvd.\, Englewood\, CO\, 80110\, United States
CATEGORIES:Asbestos Worker,Refresher
ATTACH;FMTTYPE=image/jpeg:https://metraining247.com/wp-content/uploads/2019/04/AsbestosContractor.jpg
ORGANIZER;CN="ME Training LLC":MAILTO:info@metraining247.com
END:VEVENT
BEGIN:VEVENT
DTSTART;TZID=America/Denver:20260312T080000
DTEND;TZID=America/Denver:20260312T120000
DTSTAMP:20260423T160842
CREATED:20260217T233313Z
LAST-MODIFIED:20260305T182423Z
UID:10000643-1773302400-1773316800@metraining247.com
SUMMARY:Asbestos Building Inspector\, Refresher (104R)
DESCRIPTION:Annual refresher training for asbestos site inspectors including a review of topics originally covered in the Asbestos Building Inspector Initial course. The course covers new developments in government regulations\, state of the art inspection and sampling practices and asbestos abatement industry standards. \nThis course is 4 hours and is approved by the state of Colorado and meets all the requirements of the EPA and AHERA (Asbestos Hazard Emergency Response Act). \nThis is an employer paid course.
URL:https://metraining247.com/event/asbestos-building-inspector-refresher-104r/
LOCATION:ME Training\, 3900 S. Federal Blvd.\, Englewood\, CO\, 80110\, United States
CATEGORIES:Asbestos Building Inspector,Refresher
ATTACH;FMTTYPE=image/jpeg:https://metraining247.com/wp-content/uploads/2019/04/AsbestosBuildingInspector.jpg
ORGANIZER;CN="ME Training LLC":MAILTO:info@metraining247.com
END:VEVENT
BEGIN:VEVENT
DTSTART;TZID=America/Denver:20260312T123000
DTEND;TZID=America/Denver:20260312T163000
DTSTAMP:20260423T160842
CREATED:20260218T000242Z
LAST-MODIFIED:20260305T182452Z
UID:10000644-1773318600-1773333000@metraining247.com
SUMMARY:Air Monitoring Specialist Refresher (109R)
DESCRIPTION:Annual refresher for Air Monitoring Specialist class. \nThis is an employer paid course.
URL:https://metraining247.com/event/air-monitoring-specialist-refresher-109r/
LOCATION:ME Training\, 3900 S. Federal Blvd.\, Englewood\, CO\, 80110\, United States
CATEGORIES:Air Monitoring Specialist,Refresher
ATTACH;FMTTYPE=image/jpeg:https://metraining247.com/wp-content/uploads/2019/04/air-monitoring-pump.jpg
ORGANIZER;CN="ME Training LLC":MAILTO:info@metraining247.com
END:VEVENT
BEGIN:VEVENT
DTSTART;TZID=America/Denver:20260410T080000
DTEND;TZID=America/Denver:20260410T160000
DTSTAMP:20260423T160842
CREATED:20260316T154228Z
LAST-MODIFIED:20260316T154228Z
UID:10000661-1775808000-1775836800@metraining247.com
SUMMARY:Asbestos Contractor / Supervisor\, Refresher (101R)
DESCRIPTION:Asbestos Contractor/Supervisor refresher for persons who supervise includes a review of topics covered in the contractor/supervisor initial training and will review new developments in government regulations\, state of the art work practices and asbestos abatement industry standards. \nThis course is 8 hours and is approved by the state of Colorado and meets all the requirements of the EPA and AHERA (Asbestos Hazard Emergency Response Act). \nThis is an employer paid course \nAll classes are subject to cancellation if we do not receive at least 4 registrations\, 24-48 hours prior to class date. 
URL:https://metraining247.com/event/asbestos-contractor-supervisor-refresher-101r-3/
LOCATION:ME Training\, 3900 S. Federal Blvd.\, Englewood\, CO\, 80110\, United States
CATEGORIES:Asbestos Contractor / Supervisor,Refresher
ATTACH;FMTTYPE=image/jpeg:https://metraining247.com/wp-content/uploads/2019/04/AsbestosContractor.jpg
ORGANIZER;CN="ME Training LLC":MAILTO:info@metraining247.com
END:VEVENT
BEGIN:VEVENT
DTSTART;TZID=America/Denver:20260411T080000
DTEND;TZID=America/Denver:20260411T160000
DTSTAMP:20260423T160842
CREATED:20260316T160541Z
LAST-MODIFIED:20260408T203605Z
UID:10000662-1775894400-1775923200@metraining247.com
SUMMARY:English Worker Refresher (102R)
DESCRIPTION:Asbestos worker refresher for asbestos abatement workers includes a review of materials covered in the asbestos worker initial course and coverage of new developments in government regulations: state of the art work practices and asbestos abatement industry standards. \nThis course is 8 hours and is approved by the state of Colorado and meets all the requirements of the EPA and AHERA (Asbestos Hazard Emergency Response Act). (WRE) \nThis is an employer paid course. \nClass is subject to cancellation if we do not receive at least 4 registrations\, 24-48 hours prior to class date. 
URL:https://metraining247.com/event/english-worker-refresher-102r-3/
LOCATION:ME Training\, 3900 S. Federal Blvd.\, Englewood\, CO\, 80110\, United States
CATEGORIES:Asbestos Worker,Refresher
ATTACH;FMTTYPE=image/jpeg:https://metraining247.com/wp-content/uploads/2019/04/AsbestosContractor.jpg
ORGANIZER;CN="ME Training LLC":MAILTO:info@metraining247.com
END:VEVENT
BEGIN:VEVENT
DTSTART;TZID=America/Denver:20260416T080000
DTEND;TZID=America/Denver:20260416T120000
DTSTAMP:20260423T160842
CREATED:20260316T160915Z
LAST-MODIFIED:20260410T134318Z
UID:10000665-1776326400-1776340800@metraining247.com
SUMMARY:Asbestos Building Inspector\, Refresher (Live-Remote via ZOOM)
DESCRIPTION:Annual refresher training for asbestos site inspectors including a review of topics originally covered in the Asbestos Building Inspector Initial course. The course covers new developments in government regulations\, state of the art inspection and sampling practices and asbestos abatement industry standards. \nThis course is 4 hours and is approved by the state of Colorado and meets all the requirements of the EPA and AHERA (Asbestos Hazard Emergency Response Act). \nThis is an employer paid course. \nPlease provide the students name\, phone number\, and email address in the “notes” section at checkout. The class material\, Zoom link\, and CDPHE requirements for live-remote classes will be emailed within 24 hours of registration being received.  \nAll classes are subject to cancellation if we do not receive at least 4 registrations\, 24-48 hours prior to class date. 
URL:https://metraining247.com/event/asbestos-building-inspector-refresher-live-remote-via-zoom-3/
LOCATION:ME Training\, 3900 S. Federal Blvd.\, Englewood\, CO\, 80110\, United States
CATEGORIES:Asbestos Building Inspector,Refresher
ATTACH;FMTTYPE=image/jpeg:https://metraining247.com/wp-content/uploads/2019/04/AsbestosBuildingInspector.jpg
ORGANIZER;CN="ME Training LLC":MAILTO:info@metraining247.com
END:VEVENT
BEGIN:VEVENT
DTSTART;TZID=America/Denver:20260425T080000
DTEND;TZID=America/Denver:20260425T160000
DTSTAMP:20260423T160842
CREATED:20260316T161448Z
LAST-MODIFIED:20260316T161448Z
UID:10000668-1777104000-1777132800@metraining247.com
SUMMARY:Asbestos Contractor / Supervisor\, Refresher (Live-Remote)
DESCRIPTION:Asbestos Contractor/Supervisor refresher for persons who supervise includes a review of topics covered in the contractor/supervisor initial training and will review new developments in government regulations\, state of the art work practices and asbestos abatement industry standards. \nThis course is 8 hours and is approved by the state of Colorado and meets all the requirements of the EPA and AHERA (Asbestos Hazard Emergency Response Act). \nThis is an employer paid course. \nPlease provide the students name\, phone number\, and email address in the “notes” section at checkout. The class material\, Zoom link\, and CDPHE requirements for live-remote classes will be emailed within 24 hours of registration being received.  \nClass is subject to cancellation if we do not receive at least 4 registrations\, 24-48 hours prior to class date. 
URL:https://metraining247.com/event/asbestos-contractor-supervisor-refresher-live-remote-3/
LOCATION:ME Training\, 3900 S. Federal Blvd.\, Englewood\, CO\, 80110\, United States
CATEGORIES:Asbestos Contractor / Supervisor,Refresher
ATTACH;FMTTYPE=image/jpeg:https://metraining247.com/wp-content/uploads/2019/04/AsbestosContractor.jpg
ORGANIZER;CN="ME Training LLC":MAILTO:info@metraining247.com
END:VEVENT
BEGIN:VEVENT
DTSTART;TZID=America/Denver:20260502T080000
DTEND;TZID=America/Denver:20260502T160000
DTSTAMP:20260423T160842
CREATED:20260420T183408Z
LAST-MODIFIED:20260420T183408Z
UID:10000673-1777708800-1777737600@metraining247.com
SUMMARY:English Worker Refresher (Live-Remote via ZOOM)
DESCRIPTION:Asbestos worker refresher for asbestos abatement workers includes a review of materials covered in the asbestos worker initial course and coverage of new developments in government regulations: state of the art work practices and asbestos abatement industry standards. \nThis course is 8 hours and is approved by the state of Colorado and meets all the requirements of the EPA and AHERA (Asbestos Hazard Emergency Response Act). (WRE) \nThis is an employer paid course. \nPlease provide the students name\, phone number\, and email address in the “notes” section at checkout. The class material\, Zoom link\, and CDPHE requirements for live-remote classes will be emailed within 24 hours of registration being received.  \nClass is subject to cancellation if we do not receive at least 4 registrations\, 24-48 hours prior to class date. 
URL:https://metraining247.com/event/english-worker-refresher-live-remote-via-zoom/
LOCATION:ME Training\, 3900 S. Federal Blvd.\, Englewood\, CO\, 80110\, United States
CATEGORIES:Asbestos Worker,Refresher
ATTACH;FMTTYPE=image/jpeg:https://metraining247.com/wp-content/uploads/2019/04/AsbestosContractor.jpg
ORGANIZER;CN="ME Training LLC":MAILTO:info@metraining247.com
END:VEVENT
BEGIN:VEVENT
DTSTART;TZID=America/Denver:20260502T080000
DTEND;TZID=America/Denver:20260502T160000
DTSTAMP:20260423T160842
CREATED:20260420T184853Z
LAST-MODIFIED:20260420T184853Z
UID:10000674-1777708800-1777737600@metraining247.com
SUMMARY:Spanish Worker Refresher (102R)
DESCRIPTION:Asbestos worker refresher for asbestos abatement workers includes a review of materials covered in the asbestos worker initial course and coverage of new developments in government regulations: state of the art work practices and asbestos abatement industry standards. \nThis course is 8 hours and is approved by the state of Colorado and meets all the requirements of the EPA and AHERA (Asbestos Hazard Emergency Response Act). (WRE) \nThis is an employer paid course. \nClass is subject to cancellation if we do not receive at least 4 registrations\, 24-48 hours prior to class date. 
URL:https://metraining247.com/event/spanish-worker-refresher-102r/
LOCATION:ME Training\, 3900 S. Federal Blvd.\, Englewood\, CO\, 80110\, United States
CATEGORIES:Refresher,Spanish Asbestos Worker
ATTACH;FMTTYPE=image/jpeg:https://metraining247.com/wp-content/uploads/2019/04/AsbestosContractor.jpg
ORGANIZER;CN="ME Training LLC":MAILTO:info@metraining247.com
END:VEVENT
BEGIN:VEVENT
DTSTART;TZID=America/Denver:20260508T080000
DTEND;TZID=America/Denver:20260508T160000
DTSTAMP:20260423T160842
CREATED:20260420T160420Z
LAST-MODIFIED:20260420T183540Z
UID:10000672-1778227200-1778256000@metraining247.com
SUMMARY:Asbestos Contractor / Supervisor\, Refresher (101R)
DESCRIPTION:Asbestos Contractor/Supervisor refresher for persons who supervise includes a review of topics covered in the contractor/supervisor initial training and will review new developments in government regulations\, state of the art work practices and asbestos abatement industry standards. \nThis course is 8 hours and is approved by the state of Colorado and meets all the requirements of the EPA and AHERA (Asbestos Hazard Emergency Response Act). \nThis is an employer paid course \nAll classes are subject to cancellation if we do not receive at least 4 registrations\, 24-48 hours prior to class date. 
URL:https://metraining247.com/event/asbestos-contractor-supervisor-refresher-101r/
LOCATION:ME Training\, 3900 S. Federal Blvd.\, Englewood\, CO\, 80110\, United States
CATEGORIES:Asbestos Contractor / Supervisor,Refresher
ATTACH;FMTTYPE=image/jpeg:https://metraining247.com/wp-content/uploads/2019/04/AsbestosContractor.jpg
ORGANIZER;CN="ME Training LLC":MAILTO:info@metraining247.com
END:VEVENT
BEGIN:VEVENT
DTSTART;TZID=America/Denver:20260514T080000
DTEND;TZID=America/Denver:20260514T120000
DTSTAMP:20260423T160842
CREATED:20260421T180937Z
LAST-MODIFIED:20260421T180937Z
UID:10000679-1778745600-1778760000@metraining247.com
SUMMARY:Asbestos Building Inspector\, Refresher (104R)
DESCRIPTION:Annual refresher training for asbestos site inspectors including a review of topics originally covered in the Asbestos Building Inspector Initial course. The course covers new developments in government regulations\, state of the art inspection and sampling practices and asbestos abatement industry standards. \nThis course is 4 hours and is approved by the state of Colorado and meets all the requirements of the EPA and AHERA (Asbestos Hazard Emergency Response Act). \nThis is an employer paid course.
URL:https://metraining247.com/event/asbestos-building-inspector-refresher-104r-2/
LOCATION:ME Training\, 3900 S. Federal Blvd.\, Englewood\, CO\, 80110\, United States
CATEGORIES:Asbestos Building Inspector,Refresher
ATTACH;FMTTYPE=image/jpeg:https://metraining247.com/wp-content/uploads/2019/04/AsbestosBuildingInspector.jpg
ORGANIZER;CN="ME Training LLC":MAILTO:info@metraining247.com
END:VEVENT
BEGIN:VEVENT
DTSTART;TZID=America/Denver:20260514T123000
DTEND;TZID=America/Denver:20260514T163000
DTSTAMP:20260423T160842
CREATED:20260421T180908Z
LAST-MODIFIED:20260421T180908Z
UID:10000678-1778761800-1778776200@metraining247.com
SUMMARY:Air Monitoring Specialist Refresher (109R)
DESCRIPTION:Annual refresher for Air Monitoring Specialist class. \nThis is an employer paid course.
URL:https://metraining247.com/event/air-monitoring-specialist-refresher-109r-3/
LOCATION:ME Training\, 3900 S. Federal Blvd.\, Englewood\, CO\, 80110\, United States
CATEGORIES:Air Monitoring Specialist,Refresher
ATTACH;FMTTYPE=image/jpeg:https://metraining247.com/wp-content/uploads/2019/04/air-monitoring-pump.jpg
ORGANIZER;CN="ME Training LLC":MAILTO:info@metraining247.com
END:VEVENT
BEGIN:VEVENT
DTSTART;TZID=America/Denver:20260530T080000
DTEND;TZID=America/Denver:20260530T160000
DTSTAMP:20260423T160842
CREATED:20260421T175320Z
LAST-MODIFIED:20260421T175320Z
UID:10000681-1780128000-1780156800@metraining247.com
SUMMARY:Asbestos Contractor / Supervisor\, Refresher (101R)
DESCRIPTION:Asbestos Contractor/Supervisor refresher for persons who supervise includes a review of topics covered in the contractor/supervisor initial training and will review new developments in government regulations\, state of the art work practices and asbestos abatement industry standards. \nThis course is 8 hours and is approved by the state of Colorado and meets all the requirements of the EPA and AHERA (Asbestos Hazard Emergency Response Act). \nThis is an employer paid course \nAll classes are subject to cancellation if we do not receive at least 4 registrations\, 24-48 hours prior to class date. 
URL:https://metraining247.com/event/asbestos-contractor-supervisor-refresher-101r-7/
LOCATION:ME Training\, 3900 S. Federal Blvd.\, Englewood\, CO\, 80110\, United States
CATEGORIES:Asbestos Contractor / Supervisor,Refresher
ATTACH;FMTTYPE=image/jpeg:https://metraining247.com/wp-content/uploads/2019/04/AsbestosContractor.jpg
ORGANIZER;CN="ME Training LLC":MAILTO:info@metraining247.com
END:VEVENT
END:VCALENDAR