BEGIN:VCALENDAR
VERSION:2.0
PRODID:-//ME Training - ECPv6.15.20//NONSGML v1.0//EN
CALSCALE:GREGORIAN
METHOD:PUBLISH
X-ORIGINAL-URL:https://metraining247.com
X-WR-CALDESC:Events for ME Training
REFRESH-INTERVAL;VALUE=DURATION:PT1H
X-Robots-Tag:noindex
X-PUBLISHED-TTL:PT1H
BEGIN:VTIMEZONE
TZID:America/Denver
BEGIN:DAYLIGHT
TZOFFSETFROM:-0700
TZOFFSETTO:-0600
TZNAME:MDT
DTSTART:20250309T090000
END:DAYLIGHT
BEGIN:STANDARD
TZOFFSETFROM:-0600
TZOFFSETTO:-0700
TZNAME:MST
DTSTART:20251102T080000
END:STANDARD
BEGIN:DAYLIGHT
TZOFFSETFROM:-0700
TZOFFSETTO:-0600
TZNAME:MDT
DTSTART:20260308T090000
END:DAYLIGHT
BEGIN:STANDARD
TZOFFSETFROM:-0600
TZOFFSETTO:-0700
TZNAME:MST
DTSTART:20261101T080000
END:STANDARD
BEGIN:DAYLIGHT
TZOFFSETFROM:-0700
TZOFFSETTO:-0600
TZNAME:MDT
DTSTART:20270314T090000
END:DAYLIGHT
BEGIN:STANDARD
TZOFFSETFROM:-0600
TZOFFSETTO:-0700
TZNAME:MST
DTSTART:20271107T080000
END:STANDARD
END:VTIMEZONE
BEGIN:VEVENT
DTSTART;TZID=America/Denver:20260307T080000
DTEND;TZID=America/Denver:20260307T160000
DTSTAMP:20260423T151040
CREATED:20260217T225820Z
LAST-MODIFIED:20260305T181547Z
UID:10000641-1772870400-1772899200@metraining247.com
SUMMARY:English Worker Refresher (102R)
DESCRIPTION:Asbestos worker refresher for asbestos abatement workers includes a review of materials covered in the asbestos worker initial course and coverage of new developments in government regulations: state of the art work practices and asbestos abatement industry standards. \nThis course is 8 hours and is approved by the state of Colorado and meets all the requirements of the EPA and AHERA (Asbestos Hazard Emergency Response Act). (WRE) \nThis is an employer paid course. \nClass is subject to cancellation if we do not receive at least 4 registrations\, 24-48 hours prior to class date. 
URL:https://metraining247.com/event/english-worker-refresher-102r/
LOCATION:ME Training\, 3900 S. Federal Blvd.\, Englewood\, CO\, 80110\, United States
CATEGORIES:Asbestos Worker,Refresher
ATTACH;FMTTYPE=image/jpeg:https://metraining247.com/wp-content/uploads/2019/04/AsbestosContractor.jpg
ORGANIZER;CN="ME Training LLC":MAILTO:info@metraining247.com
END:VEVENT
BEGIN:VEVENT
DTSTART;TZID=America/Denver:20260411T080000
DTEND;TZID=America/Denver:20260411T160000
DTSTAMP:20260423T151040
CREATED:20260316T160541Z
LAST-MODIFIED:20260408T203605Z
UID:10000662-1775894400-1775923200@metraining247.com
SUMMARY:English Worker Refresher (102R)
DESCRIPTION:Asbestos worker refresher for asbestos abatement workers includes a review of materials covered in the asbestos worker initial course and coverage of new developments in government regulations: state of the art work practices and asbestos abatement industry standards. \nThis course is 8 hours and is approved by the state of Colorado and meets all the requirements of the EPA and AHERA (Asbestos Hazard Emergency Response Act). (WRE) \nThis is an employer paid course. \nClass is subject to cancellation if we do not receive at least 4 registrations\, 24-48 hours prior to class date. 
URL:https://metraining247.com/event/english-worker-refresher-102r-3/
LOCATION:ME Training\, 3900 S. Federal Blvd.\, Englewood\, CO\, 80110\, United States
CATEGORIES:Asbestos Worker,Refresher
ATTACH;FMTTYPE=image/jpeg:https://metraining247.com/wp-content/uploads/2019/04/AsbestosContractor.jpg
ORGANIZER;CN="ME Training LLC":MAILTO:info@metraining247.com
END:VEVENT
BEGIN:VEVENT
DTSTART;TZID=America/Denver:20260502T080000
DTEND;TZID=America/Denver:20260502T160000
DTSTAMP:20260423T151040
CREATED:20260420T183408Z
LAST-MODIFIED:20260420T183408Z
UID:10000673-1777708800-1777737600@metraining247.com
SUMMARY:English Worker Refresher (Live-Remote via ZOOM)
DESCRIPTION:Asbestos worker refresher for asbestos abatement workers includes a review of materials covered in the asbestos worker initial course and coverage of new developments in government regulations: state of the art work practices and asbestos abatement industry standards. \nThis course is 8 hours and is approved by the state of Colorado and meets all the requirements of the EPA and AHERA (Asbestos Hazard Emergency Response Act). (WRE) \nThis is an employer paid course. \nPlease provide the students name\, phone number\, and email address in the “notes” section at checkout. The class material\, Zoom link\, and CDPHE requirements for live-remote classes will be emailed within 24 hours of registration being received.  \nClass is subject to cancellation if we do not receive at least 4 registrations\, 24-48 hours prior to class date. 
URL:https://metraining247.com/event/english-worker-refresher-live-remote-via-zoom/
LOCATION:ME Training\, 3900 S. Federal Blvd.\, Englewood\, CO\, 80110\, United States
CATEGORIES:Asbestos Worker,Refresher
ATTACH;FMTTYPE=image/jpeg:https://metraining247.com/wp-content/uploads/2019/04/AsbestosContractor.jpg
ORGANIZER;CN="ME Training LLC":MAILTO:info@metraining247.com
END:VEVENT
END:VCALENDAR