BEGIN:VCALENDAR
VERSION:2.0
PRODID:-//ME Training - ECPv6.15.20//NONSGML v1.0//EN
CALSCALE:GREGORIAN
METHOD:PUBLISH
X-WR-CALNAME:ME Training
X-ORIGINAL-URL:https://metraining247.com
X-WR-CALDESC:Events for ME Training
REFRESH-INTERVAL;VALUE=DURATION:PT1H
X-Robots-Tag:noindex
X-PUBLISHED-TTL:PT1H
BEGIN:VTIMEZONE
TZID:America/Denver
BEGIN:DAYLIGHT
TZOFFSETFROM:-0700
TZOFFSETTO:-0600
TZNAME:MDT
DTSTART:20250309T090000
END:DAYLIGHT
BEGIN:STANDARD
TZOFFSETFROM:-0600
TZOFFSETTO:-0700
TZNAME:MST
DTSTART:20251102T080000
END:STANDARD
BEGIN:DAYLIGHT
TZOFFSETFROM:-0700
TZOFFSETTO:-0600
TZNAME:MDT
DTSTART:20260308T090000
END:DAYLIGHT
BEGIN:STANDARD
TZOFFSETFROM:-0600
TZOFFSETTO:-0700
TZNAME:MST
DTSTART:20261101T080000
END:STANDARD
BEGIN:DAYLIGHT
TZOFFSETFROM:-0700
TZOFFSETTO:-0600
TZNAME:MDT
DTSTART:20270314T090000
END:DAYLIGHT
BEGIN:STANDARD
TZOFFSETFROM:-0600
TZOFFSETTO:-0700
TZNAME:MST
DTSTART:20271107T080000
END:STANDARD
END:VTIMEZONE
BEGIN:VEVENT
DTSTART;TZID=America/Denver:20260427T080000
DTEND;TZID=America/Denver:20260430T160000
DTSTAMP:20260423T090053
CREATED:20260415T145159Z
LAST-MODIFIED:20260415T145159Z
UID:10000658-1777276800-1777564800@metraining247.com
SUMMARY:Air Monitoring Specialist Initial
DESCRIPTION:The purpose of this course is to present the practical aspects of asbestos air monitoring. Both the occupational Safety and Health Administration (OSHA) and the Environmental Protection Agency (EPA) include air monitoring as an integral part of their respective asbestos regulations. Colorado requires individuals conducting certain air sampling tasks to be certified as Air Monitoring Specialist. (AMS)\n\nThis is an employer paid course.  
URL:https://metraining247.com/event/air-monitoring-specialist-initial/
LOCATION:ME Training\, 3900 S. Federal Blvd.\, Englewood\, CO\, 80110\, United States
CATEGORIES:Air Monitoring Specialist
ATTACH;FMTTYPE=image/jpeg:https://metraining247.com/wp-content/uploads/2019/04/air-monitoring-pump.jpg
ORGANIZER;CN="ME Training LLC":MAILTO:info@metraining247.com
END:VEVENT
END:VCALENDAR